BEGIN:VCALENDAR
VERSION:2.0
PRODID:-//pretix//Wydarzenia_GEOBID//
BEGIN:VEVENT
UID:pretix-geobid-nriwa2026-0@zapisy.konferencja.geobid.pl
DTSTART;VALUE=DATE:20260826
DTEND;VALUE=DATE:20260829
DESCRIPTION:Bilety: https://zapisy.konferencja.geobid.pl/\nOrganizator: GEO
 BID
DTSTAMP:20260421T015128Z
LOCATION:Międzynarodowe Centrum Kongresowe w Katowicach
SUMMARY:Konferencja Naukowo-Techniczna: Nowoczesne rozwiązania informatycz
 ne w administracji
END:VEVENT
END:VCALENDAR
